BEGIN:VCALENDAR
VERSION:2.0
PRODID:-//San Diego Moms - ECPv6.15.20//NONSGML v1.0//EN
CALSCALE:GREGORIAN
METHOD:PUBLISH
X-ORIGINAL-URL:https://sandiegomoms.com
X-WR-CALDESC:Events for San Diego Moms
REFRESH-INTERVAL;VALUE=DURATION:PT1H
X-Robots-Tag:noindex
X-PUBLISHED-TTL:PT1H
BEGIN:VTIMEZONE
TZID:America/Los_Angeles
BEGIN:DAYLIGHT
TZOFFSETFROM:-0800
TZOFFSETTO:-0700
TZNAME:PDT
DTSTART:20250309T100000
END:DAYLIGHT
BEGIN:STANDARD
TZOFFSETFROM:-0700
TZOFFSETTO:-0800
TZNAME:PST
DTSTART:20251102T090000
END:STANDARD
BEGIN:DAYLIGHT
TZOFFSETFROM:-0800
TZOFFSETTO:-0700
TZNAME:PDT
DTSTART:20260308T100000
END:DAYLIGHT
BEGIN:STANDARD
TZOFFSETFROM:-0700
TZOFFSETTO:-0800
TZNAME:PST
DTSTART:20261101T090000
END:STANDARD
BEGIN:DAYLIGHT
TZOFFSETFROM:-0800
TZOFFSETTO:-0700
TZNAME:PDT
DTSTART:20270314T100000
END:DAYLIGHT
BEGIN:STANDARD
TZOFFSETFROM:-0700
TZOFFSETTO:-0800
TZNAME:PST
DTSTART:20271107T090000
END:STANDARD
END:VTIMEZONE
BEGIN:VEVENT
DTSTART;TZID=America/Los_Angeles:20260316T193000
DTEND;TZID=America/Los_Angeles:20260316T230000
DTSTAMP:20260423T124933
CREATED:20251210T104806Z
LAST-MODIFIED:20260108T175707Z
UID:10020090-1773689400-1773702000@sandiegomoms.com
SUMMARY:The Recipe
DESCRIPTION:Before Julia Child became the TV personality that we all know\, she careened from Pasadena to New York to Washington D.C. to Ceylon and finally to Paris’s famed Cordon Bleu cooking school. A funny and delicious new play about the early life of an endlessly fascinating character and her path from confusion to discovery\, failure to success.
URL:https://sandiegomoms.com/event/the-recipe/2026-03-16/
LOCATION:La Jolla Playhouse\, 2910 La Jolla Village Dr\, La Jolla\, CA\, 92093\, United States
CATEGORIES:Family-Friendly Winter Concerts,Theater Performance,Winter Events (January 1 - February 28)
ATTACH;FMTTYPE=image/png:https://sandiegomoms.com/wp-content/uploads/2025/12/The-Recipe_calendar-listings_889x665.png
END:VEVENT
BEGIN:VEVENT
DTSTART;TZID=America/Los_Angeles:20260317T193000
DTEND;TZID=America/Los_Angeles:20260317T230000
DTSTAMP:20260423T124933
CREATED:20251210T104806Z
LAST-MODIFIED:20260108T175707Z
UID:10020091-1773775800-1773788400@sandiegomoms.com
SUMMARY:The Recipe
DESCRIPTION:Before Julia Child became the TV personality that we all know\, she careened from Pasadena to New York to Washington D.C. to Ceylon and finally to Paris’s famed Cordon Bleu cooking school. A funny and delicious new play about the early life of an endlessly fascinating character and her path from confusion to discovery\, failure to success.
URL:https://sandiegomoms.com/event/the-recipe/2026-03-17/
LOCATION:La Jolla Playhouse\, 2910 La Jolla Village Dr\, La Jolla\, CA\, 92093\, United States
CATEGORIES:Family-Friendly Winter Concerts,Theater Performance,Winter Events (January 1 - February 28)
ATTACH;FMTTYPE=image/png:https://sandiegomoms.com/wp-content/uploads/2025/12/The-Recipe_calendar-listings_889x665.png
END:VEVENT
BEGIN:VEVENT
DTSTART;TZID=America/Los_Angeles:20260318T193000
DTEND;TZID=America/Los_Angeles:20260318T230000
DTSTAMP:20260423T124933
CREATED:20251210T104806Z
LAST-MODIFIED:20260108T175707Z
UID:10020092-1773862200-1773874800@sandiegomoms.com
SUMMARY:The Recipe
DESCRIPTION:Before Julia Child became the TV personality that we all know\, she careened from Pasadena to New York to Washington D.C. to Ceylon and finally to Paris’s famed Cordon Bleu cooking school. A funny and delicious new play about the early life of an endlessly fascinating character and her path from confusion to discovery\, failure to success.
URL:https://sandiegomoms.com/event/the-recipe/2026-03-18/
LOCATION:La Jolla Playhouse\, 2910 La Jolla Village Dr\, La Jolla\, CA\, 92093\, United States
CATEGORIES:Family-Friendly Winter Concerts,Theater Performance,Winter Events (January 1 - February 28)
ATTACH;FMTTYPE=image/png:https://sandiegomoms.com/wp-content/uploads/2025/12/The-Recipe_calendar-listings_889x665.png
END:VEVENT
BEGIN:VEVENT
DTSTART;TZID=America/Los_Angeles:20260319T193000
DTEND;TZID=America/Los_Angeles:20260319T230000
DTSTAMP:20260423T124933
CREATED:20251210T104806Z
LAST-MODIFIED:20260108T175707Z
UID:10020093-1773948600-1773961200@sandiegomoms.com
SUMMARY:The Recipe
DESCRIPTION:Before Julia Child became the TV personality that we all know\, she careened from Pasadena to New York to Washington D.C. to Ceylon and finally to Paris’s famed Cordon Bleu cooking school. A funny and delicious new play about the early life of an endlessly fascinating character and her path from confusion to discovery\, failure to success.
URL:https://sandiegomoms.com/event/the-recipe/2026-03-19/
LOCATION:La Jolla Playhouse\, 2910 La Jolla Village Dr\, La Jolla\, CA\, 92093\, United States
CATEGORIES:Family-Friendly Winter Concerts,Theater Performance,Winter Events (January 1 - February 28)
ATTACH;FMTTYPE=image/png:https://sandiegomoms.com/wp-content/uploads/2025/12/The-Recipe_calendar-listings_889x665.png
END:VEVENT
BEGIN:VEVENT
DTSTART;TZID=America/Los_Angeles:20260320T193000
DTEND;TZID=America/Los_Angeles:20260320T230000
DTSTAMP:20260423T124933
CREATED:20251210T104806Z
LAST-MODIFIED:20260108T175707Z
UID:10020094-1774035000-1774047600@sandiegomoms.com
SUMMARY:The Recipe
DESCRIPTION:Before Julia Child became the TV personality that we all know\, she careened from Pasadena to New York to Washington D.C. to Ceylon and finally to Paris’s famed Cordon Bleu cooking school. A funny and delicious new play about the early life of an endlessly fascinating character and her path from confusion to discovery\, failure to success.
URL:https://sandiegomoms.com/event/the-recipe/2026-03-20/
LOCATION:La Jolla Playhouse\, 2910 La Jolla Village Dr\, La Jolla\, CA\, 92093\, United States
CATEGORIES:Family-Friendly Winter Concerts,Theater Performance,Winter Events (January 1 - February 28)
ATTACH;FMTTYPE=image/png:https://sandiegomoms.com/wp-content/uploads/2025/12/The-Recipe_calendar-listings_889x665.png
END:VEVENT
BEGIN:VEVENT
DTSTART;TZID=America/Los_Angeles:20260321T193000
DTEND;TZID=America/Los_Angeles:20260321T230000
DTSTAMP:20260423T124933
CREATED:20251210T104806Z
LAST-MODIFIED:20260108T175707Z
UID:10020095-1774121400-1774134000@sandiegomoms.com
SUMMARY:The Recipe
DESCRIPTION:Before Julia Child became the TV personality that we all know\, she careened from Pasadena to New York to Washington D.C. to Ceylon and finally to Paris’s famed Cordon Bleu cooking school. A funny and delicious new play about the early life of an endlessly fascinating character and her path from confusion to discovery\, failure to success.
URL:https://sandiegomoms.com/event/the-recipe/2026-03-21/
LOCATION:La Jolla Playhouse\, 2910 La Jolla Village Dr\, La Jolla\, CA\, 92093\, United States
CATEGORIES:Family-Friendly Winter Concerts,Theater Performance,Winter Events (January 1 - February 28)
ATTACH;FMTTYPE=image/png:https://sandiegomoms.com/wp-content/uploads/2025/12/The-Recipe_calendar-listings_889x665.png
END:VEVENT
BEGIN:VEVENT
DTSTART;TZID=America/Los_Angeles:20260322T193000
DTEND;TZID=America/Los_Angeles:20260322T230000
DTSTAMP:20260423T124933
CREATED:20251210T104806Z
LAST-MODIFIED:20260108T175707Z
UID:10020096-1774207800-1774220400@sandiegomoms.com
SUMMARY:The Recipe
DESCRIPTION:Before Julia Child became the TV personality that we all know\, she careened from Pasadena to New York to Washington D.C. to Ceylon and finally to Paris’s famed Cordon Bleu cooking school. A funny and delicious new play about the early life of an endlessly fascinating character and her path from confusion to discovery\, failure to success.
URL:https://sandiegomoms.com/event/the-recipe/2026-03-22/
LOCATION:La Jolla Playhouse\, 2910 La Jolla Village Dr\, La Jolla\, CA\, 92093\, United States
CATEGORIES:Family-Friendly Winter Concerts,Theater Performance,Winter Events (January 1 - February 28)
ATTACH;FMTTYPE=image/png:https://sandiegomoms.com/wp-content/uploads/2025/12/The-Recipe_calendar-listings_889x665.png
END:VEVENT
END:VCALENDAR