BEGIN:VCALENDAR
VERSION:2.0
PRODID:-//San Diego Moms - ECPv6.15.20//NONSGML v1.0//EN
CALSCALE:GREGORIAN
METHOD:PUBLISH
X-ORIGINAL-URL:https://sandiegomoms.com
X-WR-CALDESC:Events for San Diego Moms
REFRESH-INTERVAL;VALUE=DURATION:PT1H
X-Robots-Tag:noindex
X-PUBLISHED-TTL:PT1H
BEGIN:VTIMEZONE
TZID:America/Los_Angeles
BEGIN:DAYLIGHT
TZOFFSETFROM:-0800
TZOFFSETTO:-0700
TZNAME:PDT
DTSTART:20250309T100000
END:DAYLIGHT
BEGIN:STANDARD
TZOFFSETFROM:-0700
TZOFFSETTO:-0800
TZNAME:PST
DTSTART:20251102T090000
END:STANDARD
BEGIN:DAYLIGHT
TZOFFSETFROM:-0800
TZOFFSETTO:-0700
TZNAME:PDT
DTSTART:20260308T100000
END:DAYLIGHT
BEGIN:STANDARD
TZOFFSETFROM:-0700
TZOFFSETTO:-0800
TZNAME:PST
DTSTART:20261101T090000
END:STANDARD
BEGIN:DAYLIGHT
TZOFFSETFROM:-0800
TZOFFSETTO:-0700
TZNAME:PDT
DTSTART:20270314T100000
END:DAYLIGHT
BEGIN:STANDARD
TZOFFSETFROM:-0700
TZOFFSETTO:-0800
TZNAME:PST
DTSTART:20271107T090000
END:STANDARD
END:VTIMEZONE
BEGIN:VEVENT
DTSTART;TZID=America/Los_Angeles:20260509T073000
DTEND;TZID=America/Los_Angeles:20260509T100000
DTSTAMP:20260425T073648
CREATED:20260327T063812Z
LAST-MODIFIED:20260327T063812Z
UID:10021619-1778311800-1778320800@sandiegomoms.com
SUMMARY:River Days 5K Walk for Wildlife and Fun Run
DESCRIPTION:Come celebrate the river and help raise vital funds for wildlife conservation in the San Diego River Watershed by joining the San Diego River Park Foundation’s 2026 River Days 5K Walk for Wildlife and Fun Run! \nEnjoy a fun-filled morning with stunning river views at the beautiful Riverwalk Golf Club. Whether your solo\, coming with friends\, or bringing the whole family\, we hope you can join us! \nRegister here: https://raceroster.com/events/2026/114772/river-days-walk-for-wildlife-and-fun-run
URL:https://sandiegomoms.com/event/river-days-5k-walk-for-wildlife-and-fun-run/
LOCATION:Riverwalk Golf Club\, 1150 Fashion Valley Rd\, San Diego\, CA 92108\, 1150 Fashion Valley Rd\, San Diego\, CA\, 92108\, United States
CATEGORIES:5K Race / 1 Mile Fun Walk,Cardio,Events for Kids,Spring Events for Families in San Diego | March–May
ATTACH;FMTTYPE=image/png:https://sandiegomoms.com/wp-content/uploads/2026/03/Walk-For-Wildlife-Logo-White-Background-scaled.png
ORGANIZER;CN="The San Diego River Park Foundation":MAILTO:volunteer@sandiegoriver.org
END:VEVENT
BEGIN:VEVENT
DTSTART;TZID=America/Los_Angeles:20260722T090000
DTEND;TZID=America/Los_Angeles:20260723T170000
DTSTAMP:20260425T073648
CREATED:20260325T120822Z
LAST-MODIFIED:20260325T120822Z
UID:10021080-1784710800-1784826000@sandiegomoms.com
SUMMARY:11th International Congress on Cancer Science and Radiology
DESCRIPTION:The 11th International Cancer Congress is a premier global event organized by Inovine Meetings\, bringing together leading experts\, researchers\, clinicians\, and industry professionals to share the latest advancements\, research findings\, and clinical practices in the field of oncology and Radiology. Scheduled to take place on July 22-23\, 2026 in Tokyo\, Japan this congress serves as a dynamic platform for knowledge exchange\, collaboration\, and networking among professionals dedicated to improving patient outcomes and advancing cancer care worldwide. \nThe congress will feature a comprehensive program that includes keynote speeches\, interactive workshops\, and panel discussions\, providing a robust platform for discussing the latest advancements and emerging trends in cancer research and treatment.
URL:https://sandiegomoms.com/event/11th-international-congress-on-cancer-science-and-radiology/
LOCATION:1750 East Palomar Street\, Suit 7\, Chula Vista\, CA 91913\, 1750 East Palomar Street\, Suite 7\, Chula Vista\, CA\, 91913\, United States
CATEGORIES:Cardio,Featured,Internal,School Open House,Summer Events for Families in San Diego | June – Sept.
ATTACH;FMTTYPE=image/jpeg:https://sandiegomoms.com/wp-content/uploads/2026/03/Cancer-Science-Radiology-1080x1080-1.jpg
ORGANIZER;CN="AR Workshop Coronado":MAILTO:coronado@arworkshop.com
END:VEVENT
END:VCALENDAR