BEGIN:VCALENDAR
VERSION:2.0
PRODID:-//San Diego Moms - ECPv6.15.20//NONSGML v1.0//EN
CALSCALE:GREGORIAN
METHOD:PUBLISH
X-ORIGINAL-URL:https://sandiegomoms.com
X-WR-CALDESC:Events for San Diego Moms
REFRESH-INTERVAL;VALUE=DURATION:PT1H
X-Robots-Tag:noindex
X-PUBLISHED-TTL:PT1H
BEGIN:VTIMEZONE
TZID:America/Los_Angeles
BEGIN:DAYLIGHT
TZOFFSETFROM:-0800
TZOFFSETTO:-0700
TZNAME:PDT
DTSTART:20250309T100000
END:DAYLIGHT
BEGIN:STANDARD
TZOFFSETFROM:-0700
TZOFFSETTO:-0800
TZNAME:PST
DTSTART:20251102T090000
END:STANDARD
BEGIN:DAYLIGHT
TZOFFSETFROM:-0800
TZOFFSETTO:-0700
TZNAME:PDT
DTSTART:20260308T100000
END:DAYLIGHT
BEGIN:STANDARD
TZOFFSETFROM:-0700
TZOFFSETTO:-0800
TZNAME:PST
DTSTART:20261101T090000
END:STANDARD
BEGIN:DAYLIGHT
TZOFFSETFROM:-0800
TZOFFSETTO:-0700
TZNAME:PDT
DTSTART:20270314T100000
END:DAYLIGHT
BEGIN:STANDARD
TZOFFSETFROM:-0700
TZOFFSETTO:-0800
TZNAME:PST
DTSTART:20271107T090000
END:STANDARD
END:VTIMEZONE
BEGIN:VEVENT
DTSTART;TZID=America/Los_Angeles:20260505T160000
DTEND;TZID=America/Los_Angeles:20260505T230000
DTSTAMP:20260421T015133
CREATED:20260417T104741Z
LAST-MODIFIED:20260417T104741Z
UID:10022001-1777996800-1778022000@sandiegomoms.com
SUMMARY:Cinco de Mayo at A.R. Valentien
DESCRIPTION:This Cinco de Mayo\, join the fun at The Grill at Torrey Pines in La Jolla! The restaurant is celebrating with an à la carte dinner featuring Mexican-inspired specials along with favorites from its wood-fired grill. Set against sweeping views of the Torrey Pines Golf Course\, the evening is complemented by margarita and Mexican beer specials and live mariachi music on the patio.
URL:https://sandiegomoms.com/event/cinco-de-mayo-at-a-r-valentien/
LOCATION:A.R. Valentien\, 11480 North Torrey Pines Road\, La Jolla\, 92037\, United States
CATEGORIES:Cinco de Mayo,Food & Drink,Spring Events for Families in San Diego | March–May
ATTACH;FMTTYPE=image/jpeg:https://sandiegomoms.com/wp-content/uploads/2026/04/shutterstock_1815017312-scaled.jpg
END:VEVENT
END:VCALENDAR