BEGIN:VCALENDAR
VERSION:2.0
PRODID:-//San Diego Moms - ECPv6.15.20//NONSGML v1.0//EN
CALSCALE:GREGORIAN
METHOD:PUBLISH
X-ORIGINAL-URL:https://sandiegomoms.com
X-WR-CALDESC:Events for San Diego Moms
REFRESH-INTERVAL;VALUE=DURATION:PT1H
X-Robots-Tag:noindex
X-PUBLISHED-TTL:PT1H
BEGIN:VTIMEZONE
TZID:America/Los_Angeles
BEGIN:DAYLIGHT
TZOFFSETFROM:-0800
TZOFFSETTO:-0700
TZNAME:PDT
DTSTART:20250309T100000
END:DAYLIGHT
BEGIN:STANDARD
TZOFFSETFROM:-0700
TZOFFSETTO:-0800
TZNAME:PST
DTSTART:20251102T090000
END:STANDARD
BEGIN:DAYLIGHT
TZOFFSETFROM:-0800
TZOFFSETTO:-0700
TZNAME:PDT
DTSTART:20260308T100000
END:DAYLIGHT
BEGIN:STANDARD
TZOFFSETFROM:-0700
TZOFFSETTO:-0800
TZNAME:PST
DTSTART:20261101T090000
END:STANDARD
BEGIN:DAYLIGHT
TZOFFSETFROM:-0800
TZOFFSETTO:-0700
TZNAME:PDT
DTSTART:20270314T100000
END:DAYLIGHT
BEGIN:STANDARD
TZOFFSETFROM:-0700
TZOFFSETTO:-0800
TZNAME:PST
DTSTART:20271107T090000
END:STANDARD
END:VTIMEZONE
BEGIN:VEVENT
DTSTART;TZID=America/Los_Angeles:20260517T100000
DTEND;TZID=America/Los_Angeles:20260517T150000
DTSTAMP:20260423T051839
CREATED:20260419T123107Z
LAST-MODIFIED:20260419T123107Z
UID:10022467-1779012000-1779030000@sandiegomoms.com
SUMMARY:Annual OB Kite Festival
DESCRIPTION:Join the Kiwanis for the Annual OB Kite Festival at Robb Field – 3rd Saturday in May. Prizes for best-decorated kites\, by age category. Location: Robb Field\, 2525 Bacon Street\, San Diego\, CA 92107 \n\nDate: 3rd Saturday in May\nHours: 10:00 am to 3:00 pm\nDescription:\n\nMake and decorate your own kite.\nGet free materials and instructions\, and help with kite making.\nPrizes awarded for best-decorated kites.\nSeveral prize contests by age groups throughout the day.\nFly your newly made kite\, or bring a kite from home and show it off.\nPlay awesome kite games like Chase the Tail\, Candy Drop\, and Races.\nGet instruction from some of the best kite fliers around. AND MUCH MORE!\nEnjoy the carnival\nPeruse the “Off” Street Fair of artisans\, community booths\, and food trucks.\n\nSponsored by the\nKiwanis Club of Ocean Beach\nwww.oceanbeachkiwanis.org\nServing Beach Communities since 1928 \n“Presented with assistance from the Ocean Beach Woman’s Club”\nwww.oceanbeachwomansclub.org \nInformation: www.oceanbeachkiwanis.org or oceanbeachkiwanis@gmail.com
URL:https://sandiegomoms.com/event/annual-ob-kite-festival/
LOCATION:Robb Field\, 2525 Bacon Street\, San Diego\, CA\, 92107
CATEGORIES:Events for Kids,Events for the Whole Family,Spring Events for Families in San Diego | March–May
ATTACH;FMTTYPE=image/png:https://sandiegomoms.com/wp-content/uploads/2026/04/ob-childrens-kite-festival-2026-copy.png
END:VEVENT
END:VCALENDAR